Workbook
Name _COS11: calcolo!$B$3
Name _COS19: calcolo!$B$5
Name _COS30: calcolo!$B$9
Name _COS41: calcolo!$B$7
Name _SEN11: calcolo!$B$2
Name _SEN19: calcolo!$B$4
Name _SEN30: calcolo!$B$8
Name _SEN41: calcolo!$B$6
Name pi: calcolo!$C$1

Sheet calcolo
C1: =PI() -> 3.1415927 | T1: ANALISI SENSORIALE CIBO-VINO
A2: sen ( 11°) | B2: =SIN(11*pi/180) -> 0.190809 | T2: input dei dati
A3: cos ( 11°) | B3: =COS(11*pi/180) -> 0.98162718 | T3: Analisi sensoriale CIBO | V3: Analisi sensoriale VINO
A4: sen (19°) | B4: =SIN(19*pi/180) -> 0.32556815 | T4: Succulenza | U4: =scheda!AL14 -> 0 | V4: Intesità olfattiva | W4: =scheda!X12 -> 0
A5: cos ( 19°) | B5: =COS(19*pi/180) -> 0.94551858 | T5: Untuosità | U5: =scheda!AL21 -> 0 | V5: P.A.I. | W5: =scheda!Z13 -> 0
A6: sen (19+22) | B6: =SIN(41*pi/180) -> 0.65605903 | T6: Persistenza gusto-olfattiva | U6: =scheda!Z44 -> 0 | V6: Acidità | W6: =scheda!AL33 -> 0
A7: cos (19+22) | B7: =COS(41*pi/180) -> 0.75470958 | T7: Speziatura | U7: =scheda!X40 -> 0 | V7: effervescenza sapidità | W7: =MAX(scheda!AL36,scheda!AL37) -> 0
A8: sen 30 | B8: =SIN(30*pi/180) -> 0.5 | T8: Aromaticità | U8: =scheda!Z43 -> 0 | V8: Tannicità | W8: =scheda!G36 -> 0
A9: cos 30 | B9: =COS(30*pi/180) -> 0.8660254 | T9: Sapidità | U9: =scheda!S40 -> 0 | V9: Alcolicità | W9: =scheda!G33 -> 0
B10: parametri rette fisse (y=mx+q) | E10: parametri | G10: coordinate dei punti sul diagramma | L10: parametri | N10: coordinate | P10: cibo | R10: vino | T10: Tendenza amarognola | U10: =scheda!S41 -> 0 | V10: Dolcezza | W10: =scheda!T12 -> 0
B11: m | C11: q | E11: cibo | F11: Valori | G11: X | H11: Y | I11: X | J11: Y | L11: cibo | M11: Valori | N11: X | O11: Y | P11: X | Q11: Y | T11: Tendenza acida | U11: =scheda!S42 -> 0 | V11: Morbidezza | W11: =scheda!S13 -> 0
A12: Succulenza | B12: =B6/B7 -> 0.86928674 | C12: =10-B12*10 -> 1.3071326 | E12: Succulenza | F12: =IF(calcolo!M12=0,0.01,calcolo!M12) -> 0.01 | G12: =10+F12*_COS41 -> 10.007547 | H12: =10+F12*_SEN41 -> 10.006561 | I12: =G12 -> 10.007547 | J12: =H12 -> 10.006561 | L12: Succulenza | M12: =calcolo!U4 -> 0 | N12: =10+M12*calcolo!B7 -> 10 | O12: =10+M12*calcolo!B6 -> 10 | P12: =calcolo!J20 -> 10.007547 | Q12: =calcolo!K20 -> 10.006561 | T12: Dolcezza | U12: =scheda!U44 -> 0
A13: untuosità | B13: =B4/B5 -> 0.34432761 | C13: =10-B13*10 -> 6.5567239 | E13: Untuosità | F13: =IF(calcolo!M13=0,0.01,calcolo!M13) -> 0.01 | G13: =10+F13*_COS19 -> 10.009455 | H13: =10+F13*_SEN19 -> 10.003256 | I13: =G13 -> 10.009455 | J13: =H13 -> 10.003256 | L13: untuosità | M13: =calcolo!U5 -> 0 | N13: =10+M13*calcolo!B5 -> 10 | O13: =10+M13*calcolo!B4 -> 10 | P13: =calcolo!J21 -> 10.009455 | Q13: =calcolo!K21 -> 10.003256 | T13: Grassezza | U13: =scheda!G21 -> 0
A14: persistenza | B14: =-B3/B2 -> -5.144554 | C14: =10-B14*10 -> 61.44554 | E14: Persistenza | F14: =IF(calcolo!M14=0,0.01,calcolo!M14) -> 0.01 | G14: =10+F14*_SEN11 -> 10.001908 | H14: =10-F14*_COS11 -> 9.9901837 | I14: =G14 -> 10.001908 | J14: =H14 -> 9.9901837 | L14: persistenza | M14: =MAX(U6:U8) -> 0 | N14: =10+M14*calcolo!B2 -> 10 | O14: =10-M14*calcolo!B3 -> 10 | P14: =calcolo!J22 -> 10.001908 | Q14: =calcolo!K22 -> 9.9901837 | T14: Tendenza Dolce | U14: =scheda!G14 -> 0
A15: Sapidità | B15: =B3/B2 -> 5.144554 | C15: =10-B15*10 -> -41.44554 | E15: Sp Sapidità | F15: =IF(calcolo!M15=0,0.01,calcolo!M15) -> 0.01 | G15: =10-F15*_SEN11 -> 9.9980919 | H15: =10-F15*_COS11 -> 9.9901837 | I15: =G15 -> 9.9980919 | J15: =H15 -> 9.9901837 | L15: Sapidità | M15: =MAX(U9:U12) -> 0 | N15: =10-M15*calcolo!B2 -> 10 | O15: =10-M15*calcolo!B3 -> 10 | P15: =calcolo!J23 -> 9.9980919 | Q15: =calcolo!K23 -> 9.9901837
A16: Grassezza | B16: =-B4/B5 -> -0.34432761 | C16: =10-B16*10 -> 13.443276 | E16: Grassezza | F16: =IF(calcolo!M16=0,0.01,calcolo!M16) -> 0.01 | G16: =10-F16*_COS19 -> 9.9905448 | H16: =10+F16*_SEN19 -> 10.003256 | I16: =G16 -> 9.9905448 | J16: =H16 -> 10.003256 | L16: Grassezza | M16: =calcolo!U13 -> 0 | N16: =10-M16*calcolo!B5 -> 10 | O16: =10+M16*calcolo!B4 -> 10 | P16: =calcolo!J24 -> 9.9905448 | Q16: =calcolo!K24 -> 10.003256 | T16: AREA CIBO | U16: =calcolo!Q37 -> 0.0002047312
A17: Tendenza Dolce | B17: =-B6/B7 -> -0.86928674 | C17: =10-B17*10 -> 18.692867 | E17: D Tendenza Dolce | F17: =IF(calcolo!M17=0,0.01,calcolo!M17) -> 0.01 | G17: =10-F17*_COS41 -> 9.9924529 | H17: =10+F17*_SEN41 -> 10.006561 | I17: =G17 -> 9.9924529 | J17: =H17 -> 10.006561 | L17: Tendenza Dolce | M17: =calcolo!U14 -> 0 | N17: =10-M17*calcolo!B7 -> 10 | O17: =10+M17*calcolo!B6 -> 10 | P17: =calcolo!J25 -> 9.9924529 | Q17: =calcolo!K25 -> 10.006561 | T17: AREA VINO | U17: =calcolo!S37 -> 2.6320901
E18: chiusura | I18: =I12 -> 10.007547 | J18: =J12 -> 10.006561 | N18: =N12 -> 10 | O18: =O12 -> 10 | P18: =calcolo!J26 -> 10.007547 | Q18: =calcolo!K26 -> 10.006561 | T18: DELTA | U18: =ABS(U16-U17) -> 2.6318854
J19: X | K19: Y | P19: =10+J57 -> 10.75471 | R19: =10+K57 -> 11 | S19: PAI
E20: Intersezioni | F20: Xi | I20: Succulenza | J20: =MAX(I12,H33,F35) -> 10.007547 | K20: =B12*J20+C12 -> 10.006561 | P20: =10+J58 -> 10.945519 | R20: =10+K58 -> 10.325568 | S20: Acidità | T20: VINO
A21: retta S - P | B21: =(J14-J12)/(I14-I12) -> 2.9042109 | C21: =J12-I12*B21 -> -19.057467 | E21: retta u | F21: =(C21-C13)/(B13-B21) -> 10.005999 | I21: Untuosità | J21: =MAX(I13,F21,F22) -> 10.009455 | K21: =B13*J21+C13 -> 10.003256 | P21: =10+J59 -> 10.190809 | R21: =10+K59 -> 9.0183728 | S21: Eff. Sapidità | T21: CIBO
A22: retta S - Sp | B22: =(J15-J12)/(I15-I12) -> 1.7320508 | C22: =J12-I12*B22 -> -7.3270194 | E22: retta u | F22: =(C22-C13)/(B13-B22) -> 10.004692 | G22: retta P | H22: =(C22-C14)/(B14-B22) -> 10.000947 | I22: Persistenza | J22: =MAX(I14,F24,H22) -> 10.001908 | K22: =B14*J22+C14 -> 9.9901837 | P22: =10+J60 -> 9.809191 | R22: =10+K60 -> 9.0183728 | S22: Tannicità
I23: Sp Sapidità | J23: =MIN(I15,F26,F27) -> 9.9980919 | K23: =B15*J23+C15 -> 9.9901837 | P23: =10+J61 -> 9.0544814 | R23: =10+K61 -> 10.325568 | S23: Alcolicità
A24: retta U - Sp | B24: =(J15-J13)/(I15-I13) -> 1.1503684 | C24: =J13-I13*B24 -> -1.5113053 | E24: retta P | F24: =(C24-C14)/(B14-B24) -> 10.001211 | I24: Grassezza | J24: =MIN(I16,H27,F29) -> 9.9905448 | K24: =B16*J24+C16 -> 10.003256 | P24: =10+J62 -> 9.2452904 | R24: =10+K62 -> 11 | S24: Dolc. Morbidezza
I25: D Tendenza Dolce | J25: =MIN(I17,F31,F33) -> 9.9924529 | K25: =B17*J25+C17 -> 10.006561 | P25: =P19 -> 10.75471 | R25: =R19 -> 11 | S25: chiusura
A26: retta P - G | B26: =(J16-J14)/(I16-I14) -> -1.1503684 | C26: =J14-I14*B26 -> 21.496063 | E26: retta Sp | F26: =(C26-C15)/(B15-B26) -> 9.9987893 | I26: chiusura | J26: =J20 -> 10.007547 | K26: =K20 -> 10.006561
A27: retta P- D | B27: =(J17-J14)/(I17-I14) -> -1.7320508 | C27: =J14-I14*B27 -> 27.313997 | E27: retta Sp | F27: =(C27-C15)/(B15-B27) -> 9.9990531 | G27: retta G | H27: =(C27-C16)/(B16-B27) -> 9.9953079
A29: retta Sp - D | B29: =(J17-J15)/(I17-I15) -> -2.9042109 | C29: =J15-I15*B29 -> 39.026751 | E29: retta G | F29: =(C29-C16)/(B16-B29) -> 9.9940006
A31: retta G - S | B31: =(J12-J16)/(I12-I16) -> 0.19438031 | C31: =J16-I16*B31 -> 8.0612905 | E31: retta D | F31: =(C31-C17)/(B17-B31) -> 9.9952113 | P31: area 1 | Q31: =(Q12+Q17)*(P12-P17)/2 -> 0.15104094 | S31: =(R19+R24)*(P19-P24)/2 -> 16.603611
P32: area 2 | Q32: =(Q12+Q13)*(P13-P12)/2 -> 0.019090265 | S32: =(R19+R20)*(P20-P19)/2 -> 2.0345551
A33: retta G -U | B33: =(J13-J16)/(I13-I16) -> 0 | C33: =J16-I16*B33 -> 10.003256 | E33: retta D | F33: =(C33-C17)/(B17-B33) -> 9.9962548 | G33: retta S | H33: =(C33-C12)/(B12-B33) -> 10.003745 | P33: area 3 | Q33: =(Q13+Q14)*(P13-P14)/2 -> 0.075446201 | S33: =(R20+R21)*(P20-P21)/2 -> 7.2995288
P34: area 4 | Q34: =(Q14+Q15)*(P14-P15)/2 -> 0.038124338 | S34: =(R21+R22)*(P21-P22)/2 -> 3.4415733
A35: retta D - U | B35: =(J13-J17)/(I13-I17) -> -0.19438031 | C35: =J17-I17*B35 -> 11.948897 | E35: retta S | F35: =(C35-C12)/(B12-B35) -> 10.004789 | P35: area 5 | Q35: =(Q15+Q16)*(P15-P16)/2 -> 0.075446201 | S35: =(R22+R23)*(P22-P23)/2 -> 7.2995288
P36: area 6 | Q36: =(Q16+Q17)*(P17-P16)/2 -> 0.019090265 | S36: =(R23+R24)*(P24-P23)/2 -> 2.0345551
P37: area C | Q37: =Q31+Q32-Q33-Q34-Q35+Q36 -> 0.0002047312 | S37: =S31+S32-S33-S34-S35+S36 -> 2.6320901
A38: VINO | C38: X | D38: Y | E38: m | F38: q
A39: PAI | B39: =IF(MAX(calcolo!W4,calcolo!W5)=0,1,MAX(calcolo!W4,calcolo!W5)) -> 1 | C39: =_COS41 -> 0.75470958 | D39: =B39 -> 1
A40: Acidità | B40: =IF(calcolo!W6=0,1,calcolo!W6) -> 1 | C40: =E49 -> 0.94551858 | D40: =F49 -> 0.32556815 | E40: =-1/3^0.5 -> -0.57735027
A41: Eff. Sapidità | B41: =IF(calcolo!W7=0,1,calcolo!W7) -> 1 | C41: =E50 -> 0.190809 | D41: =F50 -> -0.98162718 | E41: =-1/3^0.5 -> -0.57735027
A42: Tannicità | B42: =IF(calcolo!W8=0,1,calcolo!W8) -> 1 | C42: =E51 -> -0.190809 | D42: =F51 -> -0.98162718 | E42: =1/3^0.5 -> 0.57735027
A43: Alcolicità | B43: =IF(calcolo!W9=0,1,calcolo!W9) -> 1 | C43: =E52 -> -0.94551858 | D43: =F52 -> 0.32556815 | E43: =1/3^0.5 -> 0.57735027
A44: Dolc. Morbidezza | B44: =IF(MAX(calcolo!W10,calcolo!W11)=0,1,MAX(calcolo!W10,calcolo!W11)) -> 1 | C44: =-_COS41 -> -0.75470958 | D44: =B44 -> 1
B47: parametri rette fisse (y=mx+q) assumendo l'origine il centro del diagramma | H47: coordinate prima del controllo convessità
B48: m | C48: q | E48: X | F48: Y | H48: VINO | I48: X | J48: Y
A49: retta acidità | B49: =-_SEN30/_COS30 -> -0.57735027 | C49: =_SEN19-B49*_COS19 -> 0.87146356 | E49: =(-B49*C49+((B49*C49)^2-(1+B49^2)*(C49^2-B40^2))^0.5)/(1+B49^2) -> 0.94551858 | F49: =B49*E49+C49 -> 0.32556815 | H49: PAI | I49: =C39 -> 0.75470958 | J49: =D39 -> 1
A50: retta eff. Sapidità | B50: =-_SEN30/_COS30 -> -0.57735027 | C50: =-_COS11-B50*_SEN11 -> -0.87146356 | E50: =(-B50*C50+((B50*C50)^2-(1+B50^2)*(C50^2-B41^2))^0.5)/(1+B50^2) -> 0.190809 | F50: =B50*E50+C50 -> -0.98162718 | H50: Acidità | I50: =E49 -> 0.94551858 | J50: =F49 -> 0.32556815
A51: retta tannicità | B51: =_SEN30/_COS30 -> 0.57735027 | C51: =-_COS11+B51*_SEN11 -> -0.87146356 | E51: =(-B51*C51-((B51*C51)^2-(1+B51^2)*(C51^2-B42^2))^0.5)/(1+B51^2) -> -0.190809 | F51: =B51*E51+C51 -> -0.98162718 | H51: Eff. Sapidità | I51: =E50 -> 0.190809 | J51: =F50 -> -0.98162718
A52: retta alcol | B52: =_SEN30/_COS30 -> 0.57735027 | C52: =_SEN19+B52*_COS19 -> 0.87146356 | E52: =(-B52*C52-((B52*C52)^2-(1+B52^2)*(C52^2-B43^2))^0.5)/(1+B52^2) -> -0.94551858 | F52: =B52*E52+C52 -> 0.32556815 | H52: Tannicità | I52: =E51 -> -0.190809 | J52: =F51 -> -0.98162718
H53: Alcolicità | I53: =E52 -> -0.94551858 | J53: =F52 -> 0.32556815
H54: Dolc. Morbidezza | I54: =C44 -> -0.75470958 | J54: =D44 -> 1
I55: =I49 -> 0.75470958 | J55: =J49 -> 1
J56: X | K56: Y
B57: m | C57: q | E57: Intersezioni | F57: Xi | I57: PAI | J57: =C39 -> 0.75470958 | K57: =MAX(D39,H70,H71) -> 1
A58: retta PAI -EFF Sap | B58: =(J51-J49)/(I51-I49) -> 3.5141428 | C58: =J49-I49*B58 -> -1.6521572 | E58: retta acidità | F58: =(C58-C49)/(B49-B58) -> 0.61679704 | I58: Acidità | J58: =MAX(I50,F58,F71) -> 0.94551858 | K58: =B49*J58+C49 -> 0.32556815
I59: Eff. Sapidità | J59: =MAX(I51,F60,F61) -> 0.190809 | K59: =B50*J59+C50 -> -0.98162718
A60: retta acid - T | B60: =(J52-J50)/(I52-I50) -> 1.1503684 | C60: =J50-I50*B60 -> -0.76212654 | E60: retta Eff Sap | F60: =(C60-C50)/(B50-B60) -> -0.063284039 | I60: Tannicità | J60: =MIN(I52,F63,H61) -> -0.190809 | K60: =B51*J60+C51 -> -0.98162718
A61: retta ac -al | B61: =(J53-J50)/(I53-I50) -> 0 | C61: =J50-I50*B61 -> 0.32556815 | E61: retta Eff Sap | F61: =(C61-C50)/(B50-B61) -> -2.0733197 | G61: retta T | H61: =(C61-C51)/(B51-B61) -> 2.0733197 | I61: Alcolicità | J61: =MIN(I53,F65,F66) -> -0.94551858 | K61: =B52*J61+C52 -> 0.32556815
I62: Dolc. Morbidezza | J62: =C44 -> -0.75470958 | K62: =MAX(J54,H66,H68) -> 1
A63: retta Eff Sap - alc | B63: =(J53-J51)/(I53-I51) -> -1.1503684 | C63: =J51-I51*B63 -> -0.76212654 | E63: retta T | F63: =(C63-C51)/(B51-B63) -> 0.063284039 | I63: chiusura
A65: retta T - DM | B65: =(J54-J52)/(I54-I52) -> -3.5141428 | C65: =J52-I52*B65 -> -1.6521572 | E65: retta alc | F65: =(C65-C52)/(B52-B65) -> -0.61679704
A66: retta T - PAI | B66: =(J49-J52)/(I49-I52) -> 2.0958099 | C66: =J52-I52*B66 -> -0.5817278 | E66: retta alc | F66: =(C66-C52)/(B52-B66) -> 0.9570168 | G66: retta DM | H66: =B66*C44+C66 -> -2.1634556
A68: retta alc - PAI | B68: =(J49-J53)/(I49-I53) -> 0.39667138 | C68: =J53-I53*B68 -> 0.70062831 | E68: retta alc | F68: =(C68-C52)/(B52-B68) -> -0.94551858 | G68: retta DM | H68: =B68*C44+C68 -> 0.40125662
A70: retta DM - acid | B70: =(J50-J54)/(I50-I54) -> -0.39667138 | C70: =J54-I54*B70 -> 0.70062831 | G70: retta PAI | H70: =B70*C39+C70 -> 0.40125662
A71: retta DM - Eff Sap | B71: =(J51-J54)/(I51-I54) -> -2.0958099 | C71: =J54-I54*B71 -> -0.5817278 | E71: retta acid | F71: =(C71-C49)/(B49-B71) -> -0.9570168 | G71: retta PAI | H71: =B71*C39+C71 -> -2.1634556

Sheet Note

Sheet scheda
C1: METODO MERCADINI AIS
C2: NUOVA SCHEDA GRAFICA DI ABBINAMENTO
B5: Cibo/preparazione | X5: Denominazione vino
B6: Piatto caldo | P6: Piatto freddo
X7: Annata | AH7: Temperatura
X8: BWined
B9: Data | I9: Ora | N9: Luogo | X9: Degustatore
O12: DOLCEZZA | Y12: INTENSITA' GUSTO OLFATTIVA
N13: ROTONDITA' | AA13: PERSISTENZA GUSTO OLFATTIVA
R40: Sapidità/Umami | Y40: Intensità gusto - olfattiva
R41: Tendenza Amarognola
R42: Tendenza Acida
S44: Dolcezza | AA44: Persistenza gusto olfattiva
C46: Area prevalente | I46: =IF(calcolo!U16>calcolo!U17,calcolo!T21,calcolo!T20) -> VINO | O46: Differenza | T46: =calcolo!U18 -> 2.6318854
C49: Struttura del cibo | M49: Poco strutturato | W49: Abbastanza strutturato | AM49: Strutturato
C51: Corpo del vino | M51: Debole | W51: Di corpo | AM51: Robusto
C55: Affinità aromatica | M55: Poco affine | W55: Mediamente affine | AM55: Affine
C56: Abbinamento | M56: Poco armonico | W56: Abbastanza armonico | AM56: Armonico

Sheet vuoto
